BEGIN:VCALENDAR
VERSION:2.0
PRODID:-//ChamberMaster//Event Calendar 2.0//EN
METHOD:PUBLISH
X-PUBLISHED-TTL:P3D
REFRESH-INTERVAL:P3D
CALSCALE:GREGORIAN
BEGIN:VEVENT
DTSTART:20130622T170000Z
DTEND:20130622T220000Z
X-MICROSOFT-CDO-ALLDAYEVENT:FALSE
SUMMARY:Operating Engineers' Top Hand Competition
DESCRIPTION:The Top Hand Competition is open to the public and is a rare opportunity to see heavy equipment up close and personal. Highly skilled Union operators will display their talents as they go head-to-head in a contest to be crowned the best of the best. During the event\, there will be an opportunity for the public to operate an Excavator\, Backhoe\, and Crane. There will also be plenty of activities for the youngsters including: jumpy house\, hay hunt\, face painting\, balloon animals\, sandbox fun\, arts and crafts\, carnival games\, and more. There will be a FREE BBQ lunch\, popcorn\, cotton candy and other goodies.  Our Training Coordinators and other staff members will be on hand to answer any questions regarding the Apprenticeship Program or Training Center. Come visit your neighborhood Training Center and watch us in action!
X-ALT-DESC;FMTTYPE=text/html:The Top Hand Competition is open to the public and is a rare opportunity to see heavy equipment up close and personal. Highly skilled Union operators will display their talents as they go head-to-head in a contest to be crowned the best of the best. During the event\, there will be an opportunity for the public to operate an Excavator\, Backhoe\, and Crane. There will also be plenty of activities for the youngsters including: jumpy house\, hay hunt\, face painting\, balloon animals\, sandbox fun\, arts and crafts\, carnival games\, and more. There will be a FREE BBQ lunch\, popcorn\, cotton candy and other goodies.&nbsp\; Our Training Coordinators and other staff members will be on hand to answer any questions regarding the Apprenticeship Program or Training Center. Come visit your neighborhood Training Center and watch us in action!
LOCATION:Operating Engineers' Training Center 16921 Vantage Highway
UID:e.40.10339
SEQUENCE:3
DTSTAMP:20260420T064556Z
URL:http://business.kittitascountychamber.com/events/details/operating-engineers-top-hand-competition-06-22-2013-10339
END:VEVENT

END:VCALENDAR
