BEGIN:VCALENDAR
VERSION:2.0
PRODID:-//ChamberMaster//Event Calendar 2.0//EN
METHOD:PUBLISH
X-PUBLISHED-TTL:P3D
REFRESH-INTERVAL:P3D
CALSCALE:GREGORIAN
BEGIN:VEVENT
DTSTART:20130427T190000Z
DTEND:20130428T020000Z
X-MICROSOFT-CDO-ALLDAYEVENT:FALSE
SUMMARY:Operation Lorax
DESCRIPTION:Operation Lorax was a project developed by an Americorp Armed Serviced Coordinator stationed with the Red Cross to replant trees in areas affected by the Taylor Bridge Fire.  This project will now be entering it's second phase to replant more trees on Lookout Mountain.   This event is a cooperation of the American Red Cross\, Americorps and Mountain to Sound Greenway.  They will be providing educational opportunities about the importance of caring for public lands and engage volunteers in planting trees on Lookout Mountain\, which was affected by the Taylor Bridge Fire.  The event is free\, but participants should dress for the weather and terrain.  Light refreshments will be provided at the site.  Registration begins at Noon.\n\n\n\n\n\nSaturday April 27th at 12:00 noon\n\n\n\n3091 Hart Rd.\, Cle Elum - Lookout Mountain.
X-ALT-DESC;FMTTYPE=text/html:Operation Lorax was a project developed by an Americorp Armed Serviced Coordinator stationed with the Red Cross to replant trees in areas affected by the Taylor Bridge Fire.&nbsp\; This project will now be entering it&#39\;s second phase to replant more trees on Lookout Mountain.&nbsp\;&nbsp\; This event is a cooperation of the American Red Cross\, Americorps and Mountain to Sound Greenway.&nbsp\; They will be providing educational opportunities about the importance of caring for public lands and engage volunteers in planting trees on Lookout Mountain\, which was affected by the Taylor Bridge Fire.&nbsp\; The event is free\, but participants should dress for the weather and terrain.&nbsp\; Light refreshments will be provided at the site.&nbsp\; Registration begins at Noon.<br />\n<br />\n<br />\nSaturday April 27th at 12:00 noon<br />\n<br />\n3091 Hart Rd.\, Cle Elum - Lookout Mountain.&nbsp\; 
LOCATION:3091 Hart Rd. Cle Elum\, Washington Lookout Mountain
UID:e.40.10122
SEQUENCE:3
DTSTAMP:20260420T095959Z
URL:http://business.kittitascountychamber.com/events/details/operation-lorax-04-27-2013-10122
END:VEVENT

END:VCALENDAR
