BEGIN:VCALENDAR
VERSION:2.0
PRODID:-//ChamberMaster//Event Calendar 2.0//EN
METHOD:PUBLISH
X-PUBLISHED-TTL:P3D
REFRESH-INTERVAL:P3D
CALSCALE:GREGORIAN
BEGIN:VEVENT
DTSTART:20140131T033500Z
DTEND:20140131T060000Z
X-MICROSOFT-CDO-ALLDAYEVENT:FALSE
SUMMARY:OPR presents: Shane McConkey the film
DESCRIPTION:Outdoor Pursuits and Rentals presents a screening of Shane McConkey the film on Thursday\, Jan. 30 at 7:35 p.m. in the Student Union and Recreation (SURC) Theatre. Admission is $3 for CWU students and Rec. Center members and $5 for non-members. There will be door raffles and prizes which include\, Stevens Pass day passes\, Northwest Riders apparel and Chair 2 Board Sports backcountry and avalanche gear. McConkey is a heartfelt examination of the legacy one athlete left to the progression of his sports\, and the path he paved to conquer his dreams. Shane McConkey is revered as a pioneer of free skiing and ski-BASE jumping\, and through his talent and ability to use his trademark irreverent humor\, he inspired countless lives. In a new film from Red Hull Media House in association with Matchstick Productions\, McConkey celebrates the life of one of the world's ultimate innovators.  For more information contact OPR at 509-963-3537.
X-ALT-DESC;FMTTYPE=text/html:Outdoor Pursuits and Rentals presents a screening of Shane McConkey the film on Thursday\, Jan. 30 at 7:35 p.m. in the Student Union and Recreation (SURC) Theatre. Admission is $3 for CWU students and Rec. Center members and $5 for non-members. There will be door raffles and prizes which include\, Stevens Pass day passes\, Northwest Riders apparel and Chair 2 Board Sports backcountry and avalanche gear. McConkey is a heartfelt examination of the legacy one athlete left to the progression of his sports\, and the path he paved to conquer his dreams. Shane McConkey is revered as a pioneer of free skiing and ski-BASE jumping\, and through his talent and ability to use his trademark irreverent humor\, he inspired countless lives. In a new film from Red Hull Media House in association with Matchstick Productions\, McConkey celebrates the life of one of the world&#39\;s ultimate innovators.&nbsp\; For more information contact OPR at 509-963-3537. 
LOCATION:Student Union and Recreation (SURC) Theatre
UID:e.40.10917
SEQUENCE:3
DTSTAMP:20260419T191420Z
URL:http://business.kittitascountychamber.com/events/details/opr-presents-shane-mcconkey-the-film-01-30-2014-10917
END:VEVENT

END:VCALENDAR
