BEGIN:VCALENDAR
VERSION:2.0
PRODID:-//ChamberMaster//Event Calendar 2.0//EN
METHOD:PUBLISH
X-PUBLISHED-TTL:P3D
REFRESH-INTERVAL:P3D
CALSCALE:GREGORIAN
BEGIN:VEVENT
DTSTART:20130331T020000Z
DTEND:20130331T030000Z
X-MICROSOFT-CDO-ALLDAYEVENT:FALSE
SUMMARY:OPR Speaker Series: Fred Beckey
DESCRIPTION:The Outdoor Pursuits and Rentals (OPR) Speaker Series continues March 30 with a visit from mountaineering legend Fred Beckey\, beginning at 7 p.m. in the Student Union and Recreation Center (SURC) Theatre. Tickets are $10 and available at the door. At 90 years old\, Beckey is well known as one of the most successful and eccentric mountain climbers alive\, and he still climbs mountains to this day. After growing up in Seattle and learning to climb in the Cascades\, Beckey went on to make more first ascents than any other North American climber. After his presentation\, Beckey will be on hand to sign copies of one of his many published guide books. This event is a fundraiser for the Washington Climber Coalition\, who is trying to build restroom facilities in Vantage. For more information contact OPR at 509-963-3537 or outdoorpursuits@cwu.edu.
X-ALT-DESC;FMTTYPE=text/html:The Outdoor Pursuits and Rentals (OPR) Speaker Series continues March 30 with a visit from mountaineering legend Fred Beckey\, beginning at 7 p.m. in the Student Union and Recreation Center (SURC) Theatre. Tickets are $10 and available at the door. At 90 years old\, Beckey is well known as one of the most successful and eccentric mountain climbers alive\, and he still climbs mountains to this day. After growing up in Seattle and learning to climb in the Cascades\, Beckey went on to make more first ascents than any other North American climber. After his presentation\, Beckey will be on hand to sign copies of one of his many published guide books. This event is a fundraiser for the Washington Climber Coalition\, who is trying to build restroom facilities in Vantage. For more information contact OPR at 509-963-3537 or outdoorpursuits@cwu.edu.
LOCATION:SURC Theatre
UID:e.40.10090
SEQUENCE:3
DTSTAMP:20260420T114028Z
URL:http://business.kittitascountychamber.com/events/details/opr-speaker-series-fred-beckey-03-30-2013-10090
END:VEVENT

END:VCALENDAR
