BEGIN:VCALENDAR
VERSION:2.0
PRODID:-//ChamberMaster//Event Calendar 2.0//EN
METHOD:PUBLISH
X-PUBLISHED-TTL:P3D
REFRESH-INTERVAL:P3D
CALSCALE:GREGORIAN
BEGIN:VEVENT
DTSTART:20130418T230000Z
DTEND:20130419T010000Z
X-MICROSOFT-CDO-ALLDAYEVENT:FALSE
SUMMARY:Outdoor Spring Symposium: Long Board Contest
DESCRIPTION:Outdoor Pursuits and Rentals (OPR) is set to crown the top CWU long-boarder at their annual Long Board Slalom Competition Thursday\, April 18 at 4 p.m. on the SURC East Patio. Registration is available at OPR and is $5 before April 15 and $10 after. Participants will show off their long-boarding skills as they weave in and out of cones and race toward the finish line. Winners will be named and given long-boarding prizes\, so expect the competition to be top notch! All experience levels are welcome. For more information visit www.cwu.edu/opr or call 509-963-3537.
X-ALT-DESC;FMTTYPE=text/html:Outdoor Pursuits and Rentals (OPR) is set to crown the top CWU long-boarder at their annual Long Board Slalom Competition Thursday\, April 18 at 4 p.m. on the SURC East Patio. Registration is available at OPR and is $5 before April 15 and $10 after. Participants will show off their long-boarding skills as they weave in and out of cones and race toward the finish line. Winners will be named and given long-boarding prizes\, so expect the competition to be top notch! All experience levels are welcome. For more information visit www.cwu.edu/opr or call 509-963-3537.
LOCATION:SURC East Patio
UID:e.40.10158
SEQUENCE:3
DTSTAMP:20260420T101023Z
URL:http://business.kittitascountychamber.com/events/details/outdoor-spring-symposium-long-board-contest-04-18-2013-10158
END:VEVENT

END:VCALENDAR
