BEGIN:VCALENDAR
VERSION:2.0
PRODID:-//ChamberMaster//Event Calendar 2.0//EN
METHOD:PUBLISH
X-PUBLISHED-TTL:P3D
REFRESH-INTERVAL:P3D
CALSCALE:GREGORIAN
BEGIN:VEVENT
DTSTART:20140417T170000Z
DTEND:20140417T220000Z
X-MICROSOFT-CDO-ALLDAYEVENT:FALSE
SUMMARY:Outdoor Spring Symposium: Vendor Fair
DESCRIPTION:The weather is warming up\, which means it?s time for the CWU Outdoor Spring Symposium. Be sure to check out this year?s vendor fair Thursday\, April 17 from 10 a.m. to 3 p.m. at the Student Union and Recreation Center (SURC) East Patio. Attendees will be able to buy gear\, inquire about employment opportunities or plan trips at one of the many vendor booths\, including Royal Sports Shop and Diamondback Bikes. The vendor fair will also feature live music courtesy of 88.1 the ?Burg and free pizza and drinks from Pizza Colin and Red Bull. For more information visit www.cwu.edu/opr or call 509-963-3537.
X-ALT-DESC;FMTTYPE=text/html:The weather is warming up\, which means it?s time for the CWU Outdoor Spring Symposium. Be sure to check out this year?s vendor fair Thursday\, April 17 from 10 a.m. to 3 p.m. at the Student Union and Recreation Center (SURC) East Patio. Attendees will be able to buy gear\, inquire about employment opportunities or plan trips at one of the many vendor booths\, including Royal Sports Shop and Diamondback Bikes. The vendor fair will also feature live music courtesy of 88.1 the ?Burg and free pizza and drinks from Pizza Colin and Red Bull. For more information visit www.cwu.edu/opr or call 509-963-3537.
LOCATION:SURC East Patio
UID:e.40.11343
SEQUENCE:3
DTSTAMP:20260419T144138Z
URL:http://business.kittitascountychamber.com/events/details/outdoor-spring-symposium-vendor-fair-04-17-2014-11343
END:VEVENT

END:VCALENDAR
