BEGIN:VCALENDAR
VERSION:2.0
PRODID:-//ChamberMaster//Event Calendar 2.0//EN
METHOD:PUBLISH
X-PUBLISHED-TTL:P3D
REFRESH-INTERVAL:P3D
CALSCALE:GREGORIAN
BEGIN:VEVENT
DTSTART:20130418T170000Z
DTEND:20130418T220000Z
X-MICROSOFT-CDO-ALLDAYEVENT:FALSE
SUMMARY:Outdoor Spring Symposium: Vendor Fair
DESCRIPTION:The weather is warming up\, which means it?s time for the CWU Outdoor Spring Symposium! Be sure to check out this year?s vendor fair Thursday\, April 18 from 10 a.m. to 3 p.m. at the Student Union and Recreation Center (SURC) East Patio. Attendees will be able to buy gear\, inquire about employment opportunities or plan trips at one of the many vendor booths\, including Northwest Riders and Motion Board Shop. The vendor fair will also feature live music from Fight or Flight and tasty food from CWU Dining Services. For more information visit www.cwu.edu/opr or call 509-963-3537.
X-ALT-DESC;FMTTYPE=text/html:The weather is warming up\, which means it?s time for the CWU Outdoor Spring Symposium! Be sure to check out this year?s vendor fair Thursday\, April 18 from 10 a.m. to 3 p.m. at the Student Union and Recreation Center (SURC) East Patio. Attendees will be able to buy gear\, inquire about employment opportunities or plan trips at one of the many vendor booths\, including Northwest Riders and Motion Board Shop. The vendor fair will also feature live music from Fight or Flight and tasty food from CWU Dining Services. For more information visit www.cwu.edu/opr or call 509-963-3537.
LOCATION:SURC East Patio
UID:e.40.10157
SEQUENCE:3
DTSTAMP:20260422T090155Z
URL:http://business.kittitascountychamber.com/events/details/outdoor-spring-symposium-vendor-fair-04-18-2013-10157
END:VEVENT

END:VCALENDAR
