BEGIN:VCALENDAR
VERSION:2.0
PRODID:-//ChamberMaster//Event Calendar 2.0//EN
METHOD:PUBLISH
X-PUBLISHED-TTL:P3D
REFRESH-INTERVAL:P3D
CALSCALE:GREGORIAN
BEGIN:VEVENT
DTSTART:20140418T020000Z
DTEND:20140418T050000Z
X-MICROSOFT-CDO-ALLDAYEVENT:FALSE
SUMMARY:Outdoor Spring Symposium: ?Where the Trail Ends? Screening
DESCRIPTION:Outdoor Pursuits and Rentals (OPR) is wrapping up the Outdoor Spring Symposium with a free screening of the Red Bull sponsored film ?Where the Trail Ends? Thursday\, April 17 at 7 p.m. on the Student Union and Recreation Center (SURC) East Patio. This event is free and open to the public. This movie follows the world's top free-ride mountain bikers as they search for untraveled terrain around the globe. The film will be shown outside on a protector allowing audiences to enjoy the natural weather at the same time. For more information contact OPR at 509-963-3537 or outdoorpursuits@cwu.edu.
X-ALT-DESC;FMTTYPE=text/html:Outdoor Pursuits and Rentals (OPR) is wrapping up the Outdoor Spring Symposium with a free screening of the Red Bull sponsored film ?Where the Trail Ends? Thursday\, April 17 at 7 p.m. on the Student Union and Recreation Center (SURC) East Patio. This event is free and open to the public. This movie follows the world&#39\;s top free-ride mountain bikers as they search for untraveled terrain around the globe. The film will be shown outside on a protector allowing audiences to enjoy the natural weather at the same time. For more information contact OPR at 509-963-3537 or outdoorpursuits@cwu.edu.
LOCATION:SURC East Patio
UID:e.40.11344
SEQUENCE:3
DTSTAMP:20260419T143919Z
URL:http://business.kittitascountychamber.com/events/details/outdoor-spring-symposium-where-the-trail-ends-screening-04-17-2014-11344
END:VEVENT

END:VCALENDAR
