BEGIN:VCALENDAR
VERSION:2.0
PRODID:-//ChamberMaster//Event Calendar 2.0//EN
METHOD:PUBLISH
X-PUBLISHED-TTL:P3D
REFRESH-INTERVAL:P3D
CALSCALE:GREGORIAN
BEGIN:VEVENT
DTSTART:20130720T190000Z
DTEND:20130721T010000Z
X-MICROSOFT-CDO-ALLDAYEVENT:FALSE
SUMMARY:Owens Meats Open House
DESCRIPTION:OWENS MEATS OPEN HOUSE for our newly remodeled business\n\n	\n\n	Come see why we were voted Best of Kittitas County 2013\n\n	\n\n	July 20th\, noon - 6:00\, FREE FOOD!\n\n	\n\n	Introduction of our "Hot Dawg" cart - Offering a variety of our home made sausages\; Pulled Pork with your choice of our very own BBQ Sauces\n\n	\n\n	Sample tables of our products\, new products & old favorites\n\n	\n\n	A book signing by Ray Owens\, his published book\, As I Recall....Good Memories of Tough Times\n\n	\n\n	We will also recognize his 85th birthday\, with a tribute by the Cle Elum Warrior Cheerleaders\n\n	\n\n	Special Appearance by The Willies Stroll down memory lane and visit our memorabilia tent with many old items that are sure to give you a chuckle.
X-ALT-DESC;FMTTYPE=text/html:<p class="p1">\n	OWENS MEATS OPEN HOUSE for our newly remodeled business<br />\n	<br />\n	Come see why we were voted Best of Kittitas County 2013<br />\n	<br />\n	July 20th\, noon - 6:00\, FREE FOOD!<br />\n	<br />\n	Introduction of our &quot\;Hot Dawg&quot\; cart - Offering a variety of our home made sausages\; Pulled Pork with your choice of our very own BBQ Sauces<br />\n	<br />\n	Sample tables of our products\, new products &amp\; old favorites<br />\n	<br />\n	A book signing by Ray Owens\, his published book\, As I Recall....Good Memories of Tough Times<br />\n	<br />\n	We will also recognize his 85th birthday\, with a tribute by the Cle Elum Warrior Cheerleaders<br />\n	<br />\n	Special Appearance by The Willies Stroll down memory lane and visit our memorabilia tent with many old items that are sure to give you a chuckle.&nbsp\;</p>\n
LOCATION:Owens Meats: 502 E 1st St Cle Elum\, WA 98922
UID:e.40.10412
SEQUENCE:3
DTSTAMP:20260420T050658Z
URL:http://business.kittitascountychamber.com/events/details/owens-meats-open-house-07-20-2013-10412
END:VEVENT

END:VCALENDAR
