BEGIN:VCALENDAR
VERSION:2.0
PRODID:-//ChamberMaster//Event Calendar 2.0//EN
METHOD:PUBLISH
X-PUBLISHED-TTL:P3D
REFRESH-INTERVAL:P3D
CALSCALE:GREGORIAN
BEGIN:VEVENT
DTSTART;VALUE=DATE:20140214
DTEND;VALUE=DATE:20140215
TRANSP:TRANSPARENT
X-MICROSOFT-CDO-ALLDAYEVENT:TRUE
SUMMARY:Paint Ellensburg
DESCRIPTION:Held right around tax day each year\, Gallery One's Soup Line event offers an array of beautiful\, handmade\, ceramic bowls filled with a variety of tasty homemade soups or salads made by Gallery One's Board of Directors and volunteers. The meal is accompanied by fresh breads and soft drinks and wine or beer for purchase. This annual event offers a great time sit down with your neighbors\, eat some tasty food\, and enjoy a laugh together while being entertained by local musicians. $25 - Bowl of Your Choice with Soup (you take the bowl home) $20 - Bowl of Your Choice Only $10 - Soup Only
X-ALT-DESC;FMTTYPE=text/html:Held right around tax day each year\, Gallery One&#39\;s Soup Line event offers an array of beautiful\, handmade\, ceramic bowls filled with a variety of tasty homemade soups or salads made by Gallery One&#39\;s Board of Directors and volunteers. The meal is accompanied by fresh breads and soft drinks and wine or beer for purchase. This annual event offers a great time sit down with your neighbors\, eat some tasty food\, and enjoy a laugh together while being entertained by local musicians. $25 - Bowl of Your Choice with Soup (you take the bowl home) $20 - Bowl of Your Choice Only $10 - Soup Only 
LOCATION:
UID:e.40.11131
SEQUENCE:3
DTSTAMP:20260419T175247Z
URL:http://business.kittitascountychamber.com/events/details/paint-ellensburg-02-14-2014-11131
END:VEVENT

END:VCALENDAR
