BEGIN:VCALENDAR
VERSION:2.0
PRODID:-//ChamberMaster//Event Calendar 2.0//EN
METHOD:PUBLISH
X-PUBLISHED-TTL:P3D
REFRESH-INTERVAL:P3D
CALSCALE:GREGORIAN
BEGIN:VEVENT
DTSTART;VALUE=DATE:20130921
DTEND;VALUE=DATE:20130922
TRANSP:TRANSPARENT
X-MICROSOFT-CDO-ALLDAYEVENT:TRUE
SUMMARY:Paint Ellensburg
DESCRIPTION:Tickets go on sale in mid August.  If you are interested in attending or helping to sponsor this event\, give them a call at 509-925-2670\n\n	https://www.facebook.com/GalleryOneEllensburg\n\n	\n		\n			\n				\n					On September 20 and 21\, Gallery One will hold a weekend of arts that includes our signature Paint Ellensburg art auction with food\, friends and wine\; a walking historic tour of downtown Ellensburg\; and a reception with artists and art demonstrations. Celebrate honored artist Julie Prather\, buy some art and support Gallery One!\n				\n					September 20\, 5pm MEET THE ARTISTS\n\n					Meet the artists and watch them in action as they demonstrate their craft. Get your catalog early during this casual social hour at Gallery One.\n\n					\n\n					September 21\, 1pm\, MEET ELLENSBURG\n\n					Meet Ellensburg during this walking tour of the historic downtown with historian Fennelle Miller. The tour begins at Gallery One.\n\n					\n\n					September 21\, 4:30 pm\, PAINT ELLENSBURG  \n\n					Bid on artwork\, gift certificates\, unique experiences and also mingle with community members in support of the arts. Live music\, great wine and a dinner of pulled pork and tasty desserts awaits you and your friends!\n\n					(Dietary preferences accepted through 9/13). Visit our Facebook page for photos of last year's event!\n\n					Location: Sue Lombard rooms on CWU's campus .
X-ALT-DESC;FMTTYPE=text/html:<p>\n	&nbsp\;Tickets go on sale in mid August.&nbsp\; If you are interested in attending or helping to sponsor this event\, give them a call at 509-925-2670<br />\n	<a href="https://www.facebook.com/GalleryOneEllensburg">https://www.facebook.com/GalleryOneEllensburg</a></p>\n<table cellpadding="0" cellspacing="0">\n	<tbody>\n		<tr>\n			<td class="td1" valign="middle">\n				<p class="p1">\n					On September 20 and 21\, Gallery One will hold a weekend of arts that includes our signature Paint Ellensburg art auction with food\, friends and wine\; a walking historic tour of downtown Ellensburg\; and a reception with artists and art demonstrations. Celebrate honored artist Julie Prather\, buy some art and support Gallery One!</p>\n				<p class="p2">\n					<b>September 20\, 5pm MEET THE ARTISTS</b><br />\n					Meet the artists and watch them in action as they demonstrate their craft. Get your catalog early during this casual social hour at Gallery One.<br />\n					<br />\n					<b>September 21\, 1pm\, MEET ELLENSBURG</b><br />\n					Meet Ellensburg during this walking tour of the historic downtown with historian Fennelle Miller. The tour&nbsp\;begins at Gallery One.<br />\n					<br />\n					<b>September 21\, 4:30 pm\, PAINT ELLENSBURG&nbsp\; </b><br />\n					Bid on artwork\, gift certificates\, unique experiences and also&nbsp\;mingle with community members in support of the arts. Live music\, great wine and a dinner of pulled pork and tasty desserts awaits you and your friends!<br />\n					(Dietary preferences accepted through 9/13). Visit our Facebook page for photos of last year&#39\;s event!<br />\n					Location: Sue Lombard rooms on CWU&#39\;s campus .</p>\n				<p class="p2">\n					&nbsp\;</p>\n			</td>\n		</tr>\n	</tbody>\n</table>\n<br />\n
LOCATION:Gallery One Visual Arts Center 408 N. Pearl St. Ellensburg\, WA
UID:e.40.9200
SEQUENCE:3
DTSTAMP:20260420T020156Z
URL:http://business.kittitascountychamber.com/events/details/paint-ellensburg-09-21-2013-9200
END:VEVENT

END:VCALENDAR
