BEGIN:VCALENDAR
VERSION:2.0
PRODID:-//ChamberMaster//Event Calendar 2.0//EN
METHOD:PUBLISH
X-PUBLISHED-TTL:P3D
REFRESH-INTERVAL:P3D
CALSCALE:GREGORIAN
BEGIN:VEVENT
DTSTART:20130715T160000Z
DTEND:20130719T220000Z
X-MICROSOFT-CDO-ALLDAYEVENT:FALSE
SUMMARY:Painting Adventures
DESCRIPTION:This camp will investigate contemporary and historic art styles in painting.  Use acrylic\, watercolor\, tempera and mixed media.\n\nGeneral Information:  Join us for these fun summer art camps for kids.  They're a Gallery One tradition.  Get out of the heat this simmer and make art with us.  Each camp has a theme and includes breaks for lunch and games.
X-ALT-DESC;FMTTYPE=text/html:This camp will investigate contemporary and historic art styles in painting.&nbsp\; Use acrylic\, watercolor\, tempera and mixed media.<br />\n<span style="color: #ff0000">General Information:&nbsp\; </span>Join us for these fun summer art camps for kids.&nbsp\; They&#39\;re a Gallery One tradition.&nbsp\; Get out of the heat this simmer and make art with us.&nbsp\; Each camp has a theme and includes breaks for lunch and games.
LOCATION:Gallery One 408 N. Pearl St
UID:e.40.10277
SEQUENCE:3
DTSTAMP:20260420T050934Z
URL:http://business.kittitascountychamber.com/events/details/painting-adventures-07-15-2013-10277
END:VEVENT

END:VCALENDAR
