BEGIN:VCALENDAR
VERSION:2.0
PRODID:-//ChamberMaster//Event Calendar 2.0//EN
METHOD:PUBLISH
X-PUBLISHED-TTL:P3D
REFRESH-INTERVAL:P3D
CALSCALE:GREGORIAN
BEGIN:VEVENT
DTSTART:20130927T013000Z
DTEND:20130927T030000Z
X-MICROSOFT-CDO-ALLDAYEVENT:FALSE
SUMMARY:Parent-Child Workshop
DESCRIPTION:Parent/ Child Ice Cream Social Program. Enhance your Child?s learning and development and learn about the WA State Early Learning Development Guidelines. Learn practical strategies to support your child?s healthy development at different stages of growth.
X-ALT-DESC;FMTTYPE=text/html:Parent/ Child Ice Cream Social Program. Enhance your Child?s learning and development and learn about the WA State Early Learning Development Guidelines. Learn practical strategies to support your child?s healthy development at different stages of growth. 
LOCATION:Hal Holmes Center 209 North Ruby St. Ellensburg\, WA 98926
UID:e.40.10694
SEQUENCE:3
DTSTAMP:20260420T020336Z
URL:http://business.kittitascountychamber.com/events/details/parent-child-workshop-09-26-2013-10694
END:VEVENT

END:VCALENDAR
