BEGIN:VCALENDAR
VERSION:2.0
PRODID:-//ChamberMaster//Event Calendar 2.0//EN
METHOD:PUBLISH
X-PUBLISHED-TTL:P3D
REFRESH-INTERVAL:P3D
CALSCALE:GREGORIAN
BEGIN:VEVENT
DTSTART:20131008T013000Z
DTEND:20131008T033000Z
X-MICROSOFT-CDO-ALLDAYEVENT:FALSE
SUMMARY:Parenting Love & Logic
DESCRIPTION:Fall 2013 Series Announcement ~ Parenting Love & Logic.  This parenting program is designed to give you practical skills that can be used immediately.\n\n\n\nClass Details:\n\n    6 sessions on Mondays from 6:30 pm - 8:30 pm\n\n        September 23 through October 28th\n\nChild Care will be available onsite: ( $30.0 per child\, includes all 6 sessions\, register and pay for childcare on the first might of class.\n\n\n\nClasses provided by: Kittitas County Community Network & Coalition
X-ALT-DESC;FMTTYPE=text/html:Fall 2013 Series Announcement ~ Parenting Love &amp\; Logic.&nbsp\; This parenting program is designed to give you practical skills that can be used immediately.<br />\n<br />\nClass Details:<br />\n&nbsp\;&nbsp\;&nbsp\;&nbsp\;6 sessions on Mondays from 6:30 pm - 8:30 pm<br />\n&nbsp\;&nbsp\;&nbsp\;&nbsp\;&nbsp\;&nbsp\;&nbsp\;&nbsp\;September 23 through October 28th<br />\nChild Care will be available onsite: ( $30.0 per child\, includes all 6 sessions\, register and pay for childcare on the first might of class.<br />\n<br />\nClasses provided by: Kittitas County Community Network &amp\; Coalition
LOCATION:Morgan Middle School Library\, 400 E. 1st Avenue.
UID:e.40.10657
SEQUENCE:3
DTSTAMP:20260420T003107Z
URL:http://business.kittitascountychamber.com/events/details/parenting-love-logic-10-07-2013-10657
END:VEVENT

END:VCALENDAR
