BEGIN:VCALENDAR
VERSION:2.0
PRODID:-//ChamberMaster//Event Calendar 2.0//EN
METHOD:PUBLISH
X-PUBLISHED-TTL:P3D
REFRESH-INTERVAL:P3D
CALSCALE:GREGORIAN
BEGIN:VEVENT
DTSTART:20140731T020000Z
DTEND:20140731T040000Z
X-MICROSOFT-CDO-ALLDAYEVENT:FALSE
SUMMARY:Pete Seeger Songfest
DESCRIPTION:Remembering Pete through his songs. Led by composer/guitarist Jim Scott\, who collaborated on many projects with the folk legend\, it's an evening of stories\, and lots of singing celebrating Pete's 94 years of life. Known to many as guitarist with the Paul Winter Consort\, Jim is a prolific composer in his own right. He compiled the "Earth and Spirit Songbook" over 100 songs of earth by many contemporary composers\, including Pete Seeger.
X-ALT-DESC;FMTTYPE=text/html:Remembering Pete through his songs. Led by composer/guitarist Jim Scott\, who collaborated on many projects with the folk legend\, it&#39\;s an evening of stories\, and lots of singing celebrating Pete&#39\;s 94 years of life. Known to many as guitarist with the Paul Winter Consort\, Jim is a prolific composer in his own right. He compiled the &quot\;Earth and Spirit Songbook&quot\; over 100 songs of earth by many contemporary composers\, including Pete Seeger.
LOCATION:KVUUC \, 400 N. Anderson\, Ellensburg WA
UID:e.40.11753
SEQUENCE:3
DTSTAMP:20260421T083945Z
URL:http://business.kittitascountychamber.com/events/details/pete-seeger-songfest-07-30-2014-11753
END:VEVENT

END:VCALENDAR
