BEGIN:VCALENDAR
VERSION:2.0
PRODID:-//ChamberMaster//Event Calendar 2.0//EN
METHOD:PUBLISH
X-PUBLISHED-TTL:P3D
REFRESH-INTERVAL:P3D
CALSCALE:GREGORIAN
BEGIN:VEVENT
DTSTART:20140712T210000Z
DTEND:20140712T230000Z
X-MICROSOFT-CDO-ALLDAYEVENT:FALSE
SUMMARY:Pie and Ice Cream Social
DESCRIPTION:The Carpenter Memorial Library and Carpenter House Museum would like to thank the Community for 100 years of support. Music provided by the Kittitas County Community Band. Free Pie and Ice Cream. Historical Tours on Site.
X-ALT-DESC;FMTTYPE=text/html:The Carpenter Memorial Library and Carpenter House Museum would like to thank the Community for 100 years of support. Music provided by the Kittitas County Community Band. Free Pie and Ice Cream. Historical Tours on Site.
LOCATION:The Carpenter House Museum 302 W. 3rd St. Cle Elum
UID:e.40.11662
SEQUENCE:3
DTSTAMP:20260419T135934Z
URL:http://business.kittitascountychamber.com/events/details/pie-and-ice-cream-social-07-12-2014-11662
END:VEVENT

END:VCALENDAR
