BEGIN:VCALENDAR
VERSION:2.0
PRODID:-//ChamberMaster//Event Calendar 2.0//EN
METHOD:PUBLISH
X-PUBLISHED-TTL:P3D
REFRESH-INTERVAL:P3D
CALSCALE:GREGORIAN
BEGIN:VEVENT
DTSTART:20130630T010000Z
DTEND:20130630T030000Z
X-MICROSOFT-CDO-ALLDAYEVENT:FALSE
SUMMARY:Pioneer Days 2013 Queen Coronation
DESCRIPTION:2013 Pioneer Days Queen\, Anita Pardini Coronation\n\n\n\nThe Social starts at 6:00pm- Deserts and Coffee\n\n\n\nThe Program stars at 7:00pm\n\n\n\nAlso announcing the Volunteer of the Year! and\n\nMushroom King\, by Sons of Italy Lodge\n\n\n\nLocated at the Cle Elum Eagles Club\n\n220 N Pennsylvania Ave.
X-ALT-DESC;FMTTYPE=text/html:2013 Pioneer Days Queen\, Anita Pardini Coronation<br />\n<br />\nThe Social starts at 6:00pm- Deserts and Coffee<br />\n<br />\nThe Program stars at 7:00pm<br />\n<br />\nAlso announcing the Volunteer of the Year! and<br />\nMushroom King\, by Sons of Italy Lodge<br />\n<br />\nLocated at the Cle&nbsp\;Elum Eagles Club<br />\n220 N Pennsylvania Ave.<br />\n<br />\n
LOCATION:Cle Elum Eagles Club 220 N Pennsylvania Ave.
UID:e.40.10359
SEQUENCE:3
DTSTAMP:20260420T064922Z
URL:http://business.kittitascountychamber.com/events/details/pioneer-days-2013-queen-coronation-06-29-2013-10359
END:VEVENT

END:VCALENDAR
