BEGIN:VCALENDAR
VERSION:2.0
PRODID:-//ChamberMaster//Event Calendar 2.0//EN
METHOD:PUBLISH
X-PUBLISHED-TTL:P3D
REFRESH-INTERVAL:P3D
CALSCALE:GREGORIAN
BEGIN:VEVENT
DTSTART;VALUE=DATE:20190706
DTEND;VALUE=DATE:20190708
TRANSP:TRANSPARENT
X-MICROSOFT-CDO-ALLDAYEVENT:TRUE
SUMMARY:Pioneer Days Parade
DESCRIPTION:Upper Kittitas County is your destination for everything Independence Day. From one of the most patriotic parades including historic military vehicles\, floats decorated with red\, white\, and blue and old glory flying proudly\, to Heritage festivals\, Pioneer Village\, and old fashioned contesets for the whole family. Pioneer Village is a Street Fair put on by the Cle Elum Downtown Association.
X-ALT-DESC;FMTTYPE=text/html:Upper Kittitas County is your destination for everything Independence Day. From one of the most patriotic parades including historic military vehicles\, floats decorated with red\, white\, and blue and old glory flying proudly\, to Heritage festivals\, Pioneer Village\, and old fashioned contesets for the whole family. Pioneer Village is a Street Fair put on by the Cle Elum Downtown Association.
LOCATION:1st Street Cle Elum\, WA
UID:e.40.25812
SEQUENCE:3
DTSTAMP:20260421T131858Z
URL:http://business.kittitascountychamber.com/events/details/pioneer-days-parade-25812
END:VEVENT

END:VCALENDAR
