BEGIN:VCALENDAR
VERSION:2.0
PRODID:-//ChamberMaster//Event Calendar 2.0//EN
METHOD:PUBLISH
X-PUBLISHED-TTL:P3D
REFRESH-INTERVAL:P3D
CALSCALE:GREGORIAN
BEGIN:VEVENT
DTSTART:20131111T200000Z
DTEND:20131111T220000Z
X-MICROSOFT-CDO-ALLDAYEVENT:FALSE
SUMMARY:Planning for advanced care
DESCRIPTION:Staff from KVH Home Health and KVH Hospice present information on advanced care planning\, which affects patients and their families\, and adult children of aging parents. This free event is open to the public. Sponsored by the KVH Cancer Survivor Support Group.
X-ALT-DESC;FMTTYPE=text/html:Staff from KVH Home Health and KVH Hospice present information on advanced care planning\, which affects patients and their families\, and adult children of aging parents. This free event is open to the public. Sponsored by the KVH Cancer Survivor Support Group. 
LOCATION:KVH Hospital\, upstairs conference room
UID:e.40.10833
SEQUENCE:3
DTSTAMP:20260419T224917Z
URL:http://business.kittitascountychamber.com/events/details/planning-for-advanced-care-11-11-2013-10833
END:VEVENT

END:VCALENDAR
