BEGIN:VCALENDAR
VERSION:2.0
PRODID:-//ChamberMaster//Event Calendar 2.0//EN
METHOD:PUBLISH
X-PUBLISHED-TTL:P3D
REFRESH-INTERVAL:P3D
CALSCALE:GREGORIAN
BEGIN:VEVENT
DTSTART:20190719T000000Z
DTEND:20190719T030000Z
X-MICROSOFT-CDO-ALLDAYEVENT:FALSE
SUMMARY:Potato Bar at the Cle Elum Eagles
DESCRIPTION:Cle Elum Auxiliary Sponsored- Scholarship Fundraiser\n\nPotato Bar!\n\n\n\nDress up your baked potato with Sour Cream\, Assorted Cheese\, Bacon Bits\, Chili\, etc. and Desserts! \n\n \n\nJoker Poker- Drawing at 6:30
X-ALT-DESC;FMTTYPE=text/html:<p>Cle Elum Auxiliary Sponsored- Scholarship Fundraiser<br />\nPotato Bar!<br />\n<br />\nDress up your baked potato with Sour Cream\, Assorted Cheese\, Bacon Bits\, Chili\, etc. and Desserts!&nbsp\;<br />\n&nbsp\;</p>\n\n<p>Joker Poker- Drawing at 6:30</p>\n
LOCATION:Cle Elum Eagles
UID:e.40.25886
SEQUENCE:3
DTSTAMP:20260421T132039Z
URL:http://business.kittitascountychamber.com/events/details/potato-bar-and-the-cle-elum-eagles-25886
END:VEVENT

END:VCALENDAR
