BEGIN:VCALENDAR
VERSION:2.0
PRODID:-//ChamberMaster//Event Calendar 2.0//EN
METHOD:PUBLISH
X-PUBLISHED-TTL:P3D
REFRESH-INTERVAL:P3D
CALSCALE:GREGORIAN
BEGIN:VEVENT
DTSTART;VALUE=DATE:20130622
DTEND;VALUE=DATE:20130623
TRANSP:TRANSPARENT
X-MICROSOFT-CDO-ALLDAYEVENT:TRUE
SUMMARY:Preparedness Fair
DESCRIPTION:Are you prepared? \n\nBeing prepared for emergencies as an everyday way of life\n\nBooths with information on: travel safety\, pet safety\, storing water\, gardening\, ham radio\, energy emergencies\, 72 hour kits\, food preservation\, hazard mitigation plans and MORE!
X-ALT-DESC;FMTTYPE=text/html:Are you prepared?&nbsp\;<br />\nBeing prepared for emergencies as an everyday way of life<br />\nBooths with information on: travel safety\, pet safety\, storing water\, gardening\, ham radio\, energy emergencies\, 72 hour kits\, food preservation\, hazard mitigation plans and MORE!
LOCATION:at The WYE park in Cle Elum
UID:e.40.10155
SEQUENCE:3
DTSTAMP:20260420T064530Z
URL:http://business.kittitascountychamber.com/events/details/preparedness-fair-06-22-2013-10155
END:VEVENT

END:VCALENDAR
