BEGIN:VCALENDAR
VERSION:2.0
PRODID:-//ChamberMaster//Event Calendar 2.0//EN
METHOD:PUBLISH
X-PUBLISHED-TTL:P3D
REFRESH-INTERVAL:P3D
CALSCALE:GREGORIAN
BEGIN:VEVENT
DTSTART:20130525T000000Z
DTEND:20130525T020000Z
X-MICROSOFT-CDO-ALLDAYEVENT:FALSE
SUMMARY:Reception\, Naomi Faith\, MFA Thesis Exhibition
DESCRIPTION:Jewelry by Naomi Faith whose current body of work initiates a visual dialogue between objects and bodies\, reminding us of the biological transformation our bodies are constantly going through.
X-ALT-DESC;FMTTYPE=text/html:Jewelry by Naomi Faith whose current body of work initiates a visual dialogue between objects and bodies\, reminding us of the biological transformation our bodies are constantly going through.
LOCATION:CWU Sarah Spurgeon Gallery\, Randall Hall on Dean Nicholson Blvd.
UID:e.40.10092
SEQUENCE:3
DTSTAMP:20260420T090604Z
URL:http://business.kittitascountychamber.com/events/details/reception-naomi-faith-mfa-thesis-exhibition-05-24-2013-10092
END:VEVENT

END:VCALENDAR
