BEGIN:VCALENDAR
VERSION:2.0
PRODID:-//ChamberMaster//Event Calendar 2.0//EN
METHOD:PUBLISH
X-PUBLISHED-TTL:P3D
REFRESH-INTERVAL:P3D
CALSCALE:GREGORIAN
BEGIN:VEVENT
DTSTART:20140412T170000Z
DTEND:20140412T230000Z
X-MICROSOFT-CDO-ALLDAYEVENT:FALSE
SUMMARY:Red's Rendezvous
DESCRIPTION:The Ultimate Fly Fishing Fair- FREE to the public.\n\nSporting Clays Challenge to take place during Rendezvous\n\nhttp://www.redsflyshop.com/rendezvous.html
X-ALT-DESC;FMTTYPE=text/html:The Ultimate Fly Fishing Fair- FREE to the public.<br />\nSporting Clays Challenge to take place during Rendezvous<br />\nhttp://www.redsflyshop.com/rendezvous.html<br />\n<br />\n<br />\n&nbsp\;
LOCATION:Reds Fly Shop/ Canyon River Ranch
UID:e.40.11306
SEQUENCE:3
DTSTAMP:20260419T143617Z
URL:http://business.kittitascountychamber.com/events/details/red-s-rendezvous-04-12-2014-11306
END:VEVENT

END:VCALENDAR
