BEGIN:VCALENDAR
VERSION:2.0
PRODID:-//ChamberMaster//Event Calendar 2.0//EN
METHOD:PUBLISH
X-PUBLISHED-TTL:P3D
REFRESH-INTERVAL:P3D
CALSCALE:GREGORIAN
BEGIN:VEVENT
DTSTART:20140205T080000Z
DTEND:20140206T010000Z
X-MICROSOFT-CDO-ALLDAYEVENT:FALSE
SUMMARY:Registration Due: Aaron Harrison Memorial Powerlifting Competition
DESCRIPTION:Aspiring and amateur power lifters interested in participating in the Aaron Harrison Memorial Powerlifting Competition must have all registration forms and the $30 fee turned into the CWU Recreation Center front desk by 5 p.m. Wednesday\, Feb. 5. The competition is Sunday\, Feb. 9 from 11 a.m. to 6 p.m. in the Recreation Center Weight Room. It will consist of a deadlift and bench press in several weight classes. Winners will be awarded based on weight class.  A non-denominational memorial service for departed University Recreation employee and CWU student Aaron Harrison will be held at 10 a.m. on the morning of the competition\, where friends and family will share remembrances. This event is sponsored by University Recreation. For more information contact Eric Scott at scotter@cwu.edu.
X-ALT-DESC;FMTTYPE=text/html:Aspiring and amateur power lifters interested in participating in the Aaron Harrison Memorial Powerlifting Competition must have all registration forms and the $30 fee turned into the CWU Recreation Center front desk by 5 p.m. Wednesday\, Feb. 5. The competition is Sunday\, Feb. 9 from 11 a.m. to 6 p.m. in the Recreation Center Weight Room. It will consist of a deadlift and bench press in several weight classes. Winners will be awarded based on weight class.&nbsp\; A non-denominational memorial service for departed University Recreation employee and CWU student Aaron Harrison will be held at 10 a.m. on the morning of the competition\, where friends and family will share remembrances. This event is sponsored by University Recreation. For more information contact Eric Scott at scotter@cwu.edu. 
LOCATION:CWU Recreation Center front desk
UID:e.40.10942
SEQUENCE:3
DTSTAMP:20260419T175149Z
URL:http://business.kittitascountychamber.com/events/details/registration-due-aaron-harrison-memorial-powerlifting-competition-02-05-2014-10942
END:VEVENT

END:VCALENDAR
