BEGIN:VCALENDAR
VERSION:2.0
PRODID:-//ChamberMaster//Event Calendar 2.0//EN
METHOD:PUBLISH
X-PUBLISHED-TTL:P3D
REFRESH-INTERVAL:P3D
CALSCALE:GREGORIAN
BEGIN:VEVENT
DTSTART:20140412T010000Z
DTEND:20140412T040000Z
X-MICROSOFT-CDO-ALLDAYEVENT:FALSE
SUMMARY:Relax\, Sip & Paint with Sam Fisher
DESCRIPTION:Create an instructor-directed painting in one night! Beer and wine will be available. No experience needed.
X-ALT-DESC;FMTTYPE=text/html:Create an instructor-directed painting in one night! Beer and wine will be available. No experience needed.
LOCATION:Gallery-One 408 N Pearl street Ellensburg\, WA 98926
UID:e.40.11293
SEQUENCE:3
DTSTAMP:20260419T144003Z
URL:http://business.kittitascountychamber.com/events/details/relax-sip-paint-with-sam-fisher-04-11-2014-11293
END:VEVENT

END:VCALENDAR
