BEGIN:VCALENDAR
VERSION:2.0
PRODID:-//ChamberMaster//Event Calendar 2.0//EN
METHOD:PUBLISH
X-PUBLISHED-TTL:P3D
REFRESH-INTERVAL:P3D
CALSCALE:GREGORIAN
BEGIN:VEVENT
DTSTART;VALUE=DATE:20131105
DTEND;VALUE=DATE:20131106
TRANSP:TRANSPARENT
X-MICROSOFT-CDO-ALLDAYEVENT:TRUE
SUMMARY:Rep. Judy Warnick- Office Hours in Kittitas County
DESCRIPTION:Warnick to hold office hours in Kittitas County\n\n\n\nRep. Judy Warnick\, R-Moses Lake\, plans to spend an entire day in Kittitas County\, making herself available to constituents living there.\n\nWarnick will hold office hours on Tuesday\, Nov. 5 at the following locations and times:\n\n\n\n          10:00   11:30 a.m.: Cottage Cafe lounge\, 911 East First Street\, Cle Elum\n\n\n\n          1:00   2:30 p.m.: Kittitas County Courthouse\, 205 W 5th Street\, Ellensburg\n\n\n\nNo RSVP is necessary to attend either of the meetings.\n\n\n\nThe 13th District lawmaker is between sessions of the Legislature\, with the recent session concluding June 29 and the upcoming session scheduled to begin Jan. 13\, 2014. \n\n\n\n"It is my job as a state representative to spend time hearing from the people I represent and understand what is going on in their lives so I can make effective decisions when I head back to Olympia\," said Warnick.\n\n\n\n"I hope people feel comfortable to drop in and share their concerns and suggestions with me on state issues\, or just say 'hi.' I always appreciate their time and input in their government."\n\n\n\nWarnick can also be heard on KXLE from noon until 12:30 p.m. on Nov. 5.\n\n\n\nConstituents can reach Warnick at her district office in Moses Lake at 326 South Cedar Street\, Suite A\, by phone at (509) 766-6505 or by e-mail at judy.warnick@leg.wa.gov. \n\n\n\nFor more information about Rep. Warnick\, visit: www.houserepublicans.wa.gov/warnick.
X-ALT-DESC;FMTTYPE=text/html:<strong><span style="color:#c00000\;"><span style="font-family:georgia\,serif\;"><span style="font-size:16.5pt\;">Warnick to hold office hours in Kittitas County</span></span></span></strong><br />\n<br />\n<span style="font-family:georgia\,serif\;"><span style="font-size:11.5pt\;"><a href="http://houserepublicans.wa.gov/judy-warnick"><strong><span style="text-decoration:none\;text-underline:none\;"><span style="color:#1982d1\;">Rep. Judy Warnick</span></span></strong></a><strong>\, R-Moses Lake\,</strong></span> plans to spend an entire day in Kittitas County\, making herself available to constituents living there.</span><br />\n<span style="font-size:11.5pt\;"><span style="font-family:georgia\,serif\;">Warnick will hold office hours on Tuesday\, Nov. 5 at the following locations and times:</span></span><br />\n<br />\n<span style="font-family:symbol\;"><span style="font-size:10pt\;">&middot\;&nbsp\;&nbsp\;&nbsp\;&nbsp\;&nbsp\;&nbsp\;&nbsp\;&nbsp\; </span></span><span style="font-family:georgia\,serif\;"><span style="font-size:11.5pt\;">10:00 &ndash\; 11:30 a.m.: Cottage Cafe lounge\, 911 East First Street\, Cle Elum</span></span><br />\n<br />\n<span style="font-family:symbol\;"><span style="font-size:10pt\;">&middot\;&nbsp\;&nbsp\;&nbsp\;&nbsp\;&nbsp\;&nbsp\;&nbsp\;&nbsp\; </span></span><span style="font-family:georgia\,serif\;"><span style="font-size:11.5pt\;">1:00 &ndash\; 2:30 p.m.: Kittitas County Courthouse\, 205 W 5th Street\, Ellensburg</span></span><br />\n<br />\n<span style="font-family:georgia\,serif\;"><span style="font-size:11.5pt\;">No RSVP is necessary to attend either of the meetings.</span></span><br />\n<br />\n<span style="font-family:georgia\,serif\;"><span style="font-size:11.5pt\;">The 13th District lawmaker is between sessions of the Legislature\, with the recent session concluding June 29 and the upcoming session scheduled to begin Jan. 13\, 2014. </span></span><br />\n<br />\n<span style="font-family:georgia\,serif\;"><span style="font-size:11.5pt\;">&ldquo\;It is my job as a state representative to spend time hearing from the people I represent and understand what is going on in their lives so I can make effective decisions when I head back to Olympia\,&rdquo\; said <strong>Warnick.</strong></span><br />\n<br />\n&ldquo\;I hope people feel comfortable to drop in and share their concerns and suggestions with me on state issues\, or just say &lsquo\;hi.&rsquo\; I always appreciate their time and input in their government.&rdquo\;</span><br />\n<br />\n<span style="font-family:georgia\,serif\;"><span style="font-size:11.5pt\;">Warnick can also be heard on KXLE from noon until 12:30 p.m. on Nov. 5.</span></span><br />\n<br />\n<span style="font-family:georgia\,serif\;"><span style="font-size:11.5pt\;">Constituents can reach Warnick at her district office in Moses Lake at 326 South Cedar Street\, Suite A\, by phone at (509) 766-6505 or by e-mail at <a href="mailto:judy.warnick@leg.wa.gov">judy.warnick@leg.wa.gov</a>. </span></span><br />\n<br />\n<strong><span style="font-family:georgia\,serif\;"><span style="font-size:11.5pt\;">For more information about Rep. Warnick\, visit: </span></span></strong><span style="font-family:georgia\,serif\;"><span style="font-size:11.5pt\;"><a href="http://www.houserepublicans.wa.gov/warnick"><strong><span style="text-decoration:none\;text-underline:none\;"><span style="color:#1982d1\;">www.houserepublicans.wa.gov/warnick</span></span></strong></a><strong>.&nbsp\;</strong></span></span><br />\n
LOCATION:
UID:e.40.10807
SEQUENCE:3
DTSTAMP:20260419T225013Z
URL:http://business.kittitascountychamber.com/events/details/rep-judy-warnick-office-hours-in-kittitas-county-11-05-2013-10807
END:VEVENT

END:VCALENDAR
