BEGIN:VCALENDAR
VERSION:2.0
PRODID:-//ChamberMaster//Event Calendar 2.0//EN
METHOD:PUBLISH
X-PUBLISHED-TTL:P3D
REFRESH-INTERVAL:P3D
CALSCALE:GREGORIAN
BEGIN:VEVENT
DTSTART:20130425T000000Z
DTEND:20130425T033000Z
X-MICROSOFT-CDO-ALLDAYEVENT:FALSE
SUMMARY:Rock Against Rape
DESCRIPTION:Rock Against Rape Wednesday\, April 24 5-8:30 p.m. Power chords\, paintings and prevention education are the pieces that make Rock Against Rape what it is\, a groundbreaking\, awareness-sparking event. Now in its fifth year\, Rock Against Rape has become a signature event in Central?s efforts to spread awareness about sexual assault and prevention methods. Come rock out Wednesday\, April 24 from 5 to 8:30 p.m. in the Student Union and Recreation Center (SURC) Ballroom. This event is free and open to the public. Rock Against Rape offers education and awareness through a variety of non-traditional programs and activities. This year the event will be hosted by DJ IB Ruschin? and feature live music\, an art battle and interactive information booths. Attendees will receive free pizza\, t-shirts and other prizes donated by local businesses. After its first year in 2009\, Rock Against Rape won the Program of the Year award at the Pacific Affiliate of College and University Residence Halls (PACURH) national conference. For more information please visit contact the CWU Wellness Center at 509-963-3213\, or visit room 139 in the Student Union and Recreation Center (SURC).
X-ALT-DESC;FMTTYPE=text/html:Rock Against Rape Wednesday\, April 24 5-8:30 p.m. Power chords\, paintings and prevention education are the pieces that make Rock Against Rape what it is\, a groundbreaking\, awareness-sparking event. Now in its fifth year\, Rock Against Rape has become a signature event in Central?s efforts to spread awareness about sexual assault and prevention methods. Come rock out Wednesday\, April 24 from 5 to 8:30 p.m. in the Student Union and Recreation Center (SURC) Ballroom. This event is free and open to the public. Rock Against Rape offers education and awareness through a variety of non-traditional programs and activities. This year the event will be hosted by DJ IB Ruschin? and feature live music\, an art battle and interactive information booths. Attendees will receive free pizza\, t-shirts and other prizes donated by local businesses. After its first year in 2009\, Rock Against Rape won the Program of the Year award at the Pacific Affiliate of College and University Residence Halls (PACURH) national conference. For more information please visit contact the CWU Wellness Center at 509-963-3213\, or visit room 139 in the Student Union and Recreation Center (SURC). 
LOCATION:CWU Student Union and Recreation Center (SURC) Ballroom
UID:e.40.10167
SEQUENCE:3
DTSTAMP:20260420T095955Z
URL:http://business.kittitascountychamber.com/events/details/rock-against-rape-04-24-2013-10167
END:VEVENT

END:VCALENDAR
