BEGIN:VCALENDAR
VERSION:2.0
PRODID:-//ChamberMaster//Event Calendar 2.0//EN
METHOD:PUBLISH
X-PUBLISHED-TTL:P3D
REFRESH-INTERVAL:P3D
CALSCALE:GREGORIAN
BEGIN:VEVENT
DTSTART;VALUE=DATE:20190723
DTEND;VALUE=DATE:20190724
TRANSP:TRANSPARENT
X-MICROSOFT-CDO-ALLDAYEVENT:TRUE
SUMMARY:Rockstar Energy Drink Disrupt Festival
DESCRIPTION:Featuring performances by The Used\, Thrice\, Circa Survive\, Sum 41\, and more!
X-ALT-DESC;FMTTYPE=text/html:Featuring performances by The Used\, Thrice\, Circa Survive\, Sum 41\, and more!
LOCATION:White River Amphitheatre
UID:e.40.25838
SEQUENCE:3
DTSTAMP:20260421T132235Z
URL:http://business.kittitascountychamber.com/events/details/rockstar-energy-drink-disrupt-festival-25838
END:VEVENT

END:VCALENDAR
