BEGIN:VCALENDAR
VERSION:2.0
PRODID:-//ChamberMaster//Event Calendar 2.0//EN
METHOD:PUBLISH
X-PUBLISHED-TTL:P3D
REFRESH-INTERVAL:P3D
CALSCALE:GREGORIAN
BEGIN:VEVENT
DTSTART:20140323T000000Z
DTEND:20140323T020000Z
X-MICROSOFT-CDO-ALLDAYEVENT:FALSE
SUMMARY:Rodeo City Rollergirls Bout
DESCRIPTION:Rodeo City Rollergirls vs. Skagit Valley Roller Derby
X-ALT-DESC;FMTTYPE=text/html:Rodeo City Rollergirls vs. Skagit Valley Roller Derby
LOCATION:Ellensburg High School
UID:e.40.11206
SEQUENCE:3
DTSTAMP:20260419T161635Z
URL:http://business.kittitascountychamber.com/events/details/rodeo-city-rollergirls-bout-03-22-2014-11206
END:VEVENT

END:VCALENDAR
