BEGIN:VCALENDAR
VERSION:2.0
PRODID:-//ChamberMaster//Event Calendar 2.0//EN
METHOD:PUBLISH
X-PUBLISHED-TTL:P3D
REFRESH-INTERVAL:P3D
CALSCALE:GREGORIAN
BEGIN:VEVENT
DTSTART:20140518T000000Z
DTEND:20140518T023000Z
X-MICROSOFT-CDO-ALLDAYEVENT:FALSE
SUMMARY:Rodeo City Rollergirls Double Header Bout
DESCRIPTION:Rodeo City Rollergirls VS Rolling Hills Derby Dames
X-ALT-DESC;FMTTYPE=text/html:Rodeo City Rollergirls VS Rolling Hills Derby Dames
LOCATION:Ellensburg High School
UID:e.40.11208
SEQUENCE:3
DTSTAMP:20260419T125857Z
URL:http://business.kittitascountychamber.com/events/details/rodeo-city-rollergirls-double-header-bout-05-17-2014-11208
END:VEVENT

END:VCALENDAR
