BEGIN:VCALENDAR
VERSION:2.0
PRODID:-//ChamberMaster//Event Calendar 2.0//EN
METHOD:PUBLISH
X-PUBLISHED-TTL:P3D
REFRESH-INTERVAL:P3D
CALSCALE:GREGORIAN
BEGIN:VEVENT
DTSTART:20140405T153000Z
DTEND:20140406T020000Z
X-MICROSOFT-CDO-ALLDAYEVENT:FALSE
SUMMARY:Ropeless Rodeo: Bouldering Competition at CWU
DESCRIPTION:As a part of the NC3 climbing series\, the Ropeless Rodeo is bringing the best rock climbers from the region?s colleges and universities to CWU. This competition is sure to draw a crowd\, and everyone is welcome to come show off their climbing skills or support the competitors from the sidelines. The competition will take place April 5 at the CWU climbing wall\, with check-in for competitors at 8:30 a.m. and the first heat beginning at 9:15 a.m.\, with heats until the awards ceremony at 6:30 p.m. For those interested in competing\, registration is open until the competition kicks off and will be $30 the day of the event. Whether coming to get in on the action or to watch it unfold\, the Ropeless Rodeo is a can?t miss for any recreation enthusiast. For more information contact OPR at 509-963-3537 or outdoorpursuits@cwu.edu.
X-ALT-DESC;FMTTYPE=text/html:As a part of the NC3 climbing series\, the Ropeless Rodeo is bringing the best rock climbers from the region?s colleges and universities to CWU. This competition is sure to draw a crowd\, and everyone is welcome to come show off their climbing skills or support the competitors from the sidelines. The competition will take place April 5 at the CWU climbing wall\, with check-in for competitors at 8:30 a.m. and the first heat beginning at 9:15 a.m.\, with heats until the awards ceremony at 6:30 p.m. For those interested in competing\, registration is open until the competition kicks off and will be $30 the day of the event. Whether coming to get in on the action or to watch it unfold\, the Ropeless Rodeo is a can?t miss for any recreation enthusiast. For more information contact OPR at 509-963-3537 or outdoorpursuits@cwu.edu.
LOCATION:CWU Climbing Wall
UID:e.40.11203
SEQUENCE:3
DTSTAMP:20260419T143756Z
URL:http://business.kittitascountychamber.com/events/details/ropeless-rodeo-bouldering-competition-at-cwu-04-05-2014-11203
END:VEVENT

END:VCALENDAR
