BEGIN:VCALENDAR
VERSION:2.0
PRODID:-//ChamberMaster//Event Calendar 2.0//EN
METHOD:PUBLISH
X-PUBLISHED-TTL:P3D
REFRESH-INTERVAL:P3D
CALSCALE:GREGORIAN
BEGIN:VEVENT
DTSTART:20130330T153000Z
DTEND:20130331T013000Z
X-MICROSOFT-CDO-ALLDAYEVENT:FALSE
SUMMARY:Ropeless Rodeo- Intercollegiate Bouldering Competition
DESCRIPTION:Outdoor Pursuits and Rentals (OPR) is hosting the Ropeless Rodeo\, an intercollegiate bouldering competition\, Saturday\, March 30 at the CWU Climbing Wall. The action goes from 8:30 a.m. to 6:30 p.m.\, spectators are welcome and admission is free. The Ropeless Rodeo is part of the Northwest Collegiate Climbing Circuit (Nc3)\, which also features stops at seven other Pacific Northwest schools\, including the University of Washington and Western Washington University. While at the Ropeless Rodeo\, spectators will watch these skilled climbers performing a variety of low-altitude routes without the assistance of a rope. For more information contact OPR at 509-963-3537 or outdoorpursuits@cwu.edu.
X-ALT-DESC;FMTTYPE=text/html:Outdoor Pursuits and Rentals (OPR) is hosting the Ropeless Rodeo\, an intercollegiate bouldering competition\, Saturday\, March 30 at the CWU Climbing Wall. The action goes from 8:30 a.m. to 6:30 p.m.\, spectators are welcome and admission is free. The Ropeless Rodeo is part of the Northwest Collegiate Climbing Circuit (Nc3)\, which also features stops at seven other Pacific Northwest schools\, including the University of Washington and Western Washington University. While at the Ropeless Rodeo\, spectators will watch these skilled climbers performing a variety of low-altitude routes without the assistance of a rope. For more information contact OPR at 509-963-3537 or outdoorpursuits@cwu.edu.&nbsp\;
LOCATION:CWU Climbing Wall
UID:e.40.9244
SEQUENCE:3
DTSTAMP:20260420T113805Z
URL:http://business.kittitascountychamber.com/events/details/ropeless-rodeo-intercollegiate-bouldering-competition-03-30-2013-9244
END:VEVENT

END:VCALENDAR
