BEGIN:VCALENDAR
VERSION:2.0
PRODID:-//ChamberMaster//Event Calendar 2.0//EN
METHOD:PUBLISH
X-PUBLISHED-TTL:P3D
REFRESH-INTERVAL:P3D
CALSCALE:GREGORIAN
BEGIN:VEVENT
DTSTART:20131211T020000Z
DTEND:20131211T050000Z
X-MICROSOFT-CDO-ALLDAYEVENT:FALSE
SUMMARY:Roslyn Cafe and Rustic Root Catering - Customer Appreciation
DESCRIPTION:Join us at the Stonehouse 101 in Roslyn for our customer appreciation party.  Tuesday December 10\, 2013 beginning at 6:00 pm   There will be food\, drink and music
X-ALT-DESC;FMTTYPE=text/html:Join us at the Stonehouse 101 in Roslyn for our customer appreciation party.&nbsp\; Tuesday December 10\, 2013 beginning at 6:00 pm&nbsp\;&nbsp\; There will be food\, drink and music
LOCATION:Stonehouse 101 Roslyn
UID:e.40.10878
SEQUENCE:3
DTSTAMP:20260419T210700Z
URL:http://business.kittitascountychamber.com/events/details/roslyn-cafe-and-rustic-root-catering-customer-appreciation-12-10-2013-10878
END:VEVENT

END:VCALENDAR
