BEGIN:VCALENDAR
VERSION:2.0
PRODID:-//ChamberMaster//Event Calendar 2.0//EN
METHOD:PUBLISH
X-PUBLISHED-TTL:P3D
REFRESH-INTERVAL:P3D
CALSCALE:GREGORIAN
BEGIN:VEVENT
DTSTART:20130804T160000Z
DTEND:20130804T220000Z
X-MICROSOFT-CDO-ALLDAYEVENT:FALSE
SUMMARY:Roslyn Sunday Market
DESCRIPTION:Roslyn Sunday Market opens this weekend\n\nDowntown Roslyn
X-ALT-DESC;FMTTYPE=text/html:Roslyn Sunday Market opens this weekend<br />\nDowntown Roslyn
LOCATION:Downtown Roslyn
UID:e.40.10347
SEQUENCE:3
DTSTAMP:20260420T033317Z
URL:http://business.kittitascountychamber.com/events/details/roslyn-sunday-market-08-04-2013-10347
END:VEVENT

END:VCALENDAR
