BEGIN:VCALENDAR
VERSION:2.0
PRODID:-//ChamberMaster//Event Calendar 2.0//EN
METHOD:PUBLISH
X-PUBLISHED-TTL:P3D
REFRESH-INTERVAL:P3D
CALSCALE:GREGORIAN
BEGIN:VEVENT
DTSTART:20130518T160000Z
DTEND:20130518T200000Z
X-MICROSOFT-CDO-ALLDAYEVENT:FALSE
SUMMARY:Run for the Red - 5K Fun Run and Walk
DESCRIPTION:Come join the American Red Cross at our Annual 5K Fun Run and Walk. The race starts at 9:00am on May 18th at Rotary Park. Pick up a registration form in our office or visit our website to register online! Discounts provided for military servicemembers and their families.  Register by May 4th to receive a race t-shirt.
X-ALT-DESC;FMTTYPE=text/html:Come join the American Red Cross at our Annual 5K Fun Run and Walk. The race starts at 9:00am on May 18th at Rotary Park. Pick up a registration form in our office or visit our website to register online! Discounts provided for military&nbsp\;servicemembers&nbsp\;and their families.&nbsp\; Register by May 4th to receive a race t-shirt.&nbsp\;
LOCATION:Rotary Park 1200 W. 5th
UID:e.40.10144
SEQUENCE:3
DTSTAMP:20260420T083313Z
URL:http://business.kittitascountychamber.com/events/details/run-for-the-red-5k-fun-run-and-walk-05-18-2013-10144
END:VEVENT

END:VCALENDAR
