BEGIN:VCALENDAR
VERSION:2.0
PRODID:-//ChamberMaster//Event Calendar 2.0//EN
METHOD:PUBLISH
X-PUBLISHED-TTL:P3D
REFRESH-INTERVAL:P3D
CALSCALE:GREGORIAN
BEGIN:VEVENT
DTSTART:20140419T160000Z
DTEND:20140419T190000Z
X-MICROSOFT-CDO-ALLDAYEVENT:FALSE
SUMMARY:Salmon Run 5k/10k and Kid's Run
DESCRIPTION:The second annual Salmon Run 5k/10k celebrates the life cycle of our favorite anadromous fish!  Course The course is run on and around the Central Washington University campus\, beginning and ending in front of Dean Hall. The 10K course is two loops of the 5K course. Registration Registration for the 5k and 10k includes water on the course\, refreshments after the race\, and a t-shirt.  Register before April 9\, 2014 to guarantee a t-shirt. 5K - $20.00 10K - $25.00 Small Fry kid's dash - Free Register online at Wildcat Tickets\, or in person at the CWU Welcome Center or Wildcat Store in the SURC. Day of registration will be available\, cash or check only. Schedule of Events\, 4/19/2014 9:00 a.m - Packet pick up and day of registration opens 10:00 a.m. - 5k/10k race start 11:15 a.m. - Small Fry kids 100 yard dash start 11:30 a.m. - Awards ceremony This event is held in conjunction with the Earth Day Family Festival at the Museum of Culture and Environment\, which will include activities for the whole family.  Sponsors include CWU University Recreation and Yakama Nation Fisheries.
X-ALT-DESC;FMTTYPE=text/html:The second annual Salmon Run 5k/10k celebrates the life cycle of our favorite anadromous fish!&nbsp\; Course The course is run on and around the Central Washington University campus\, beginning and ending in front of Dean Hall. The 10K course is two loops of the 5K course. Registration Registration for the 5k and 10k includes water on the course\, refreshments after the race\, and a t-shirt. &nbsp\;Register before April 9\, 2014 to guarantee a t-shirt. 5K - $20.00 10K - $25.00 Small Fry kid&#39\;s dash - Free Register online at Wildcat Tickets\, or in person at the CWU Welcome Center or Wildcat Store in the SURC. Day of registration will be available\, cash or check only. Schedule of Events\, 4/19/2014 9:00 a.m - Packet pick up and day of registration opens 10:00 a.m. - 5k/10k race start 11:15 a.m. - Small Fry kids 100 yard dash start 11:30 a.m. - Awards ceremony This event is held in conjunction with the Earth Day Family Festival at the Museum of Culture and Environment\, which will include activities for the whole family. &nbsp\;Sponsors include CWU University Recreation and Yakama Nation Fisheries.
LOCATION:Central Washington University Dean Hall 1200 N. D St. Ellensburg\, WA 98926-7544
UID:e.40.11339
SEQUENCE:3
DTSTAMP:20260419T144026Z
URL:http://business.kittitascountychamber.com/events/details/salmon-run-5k-10k-and-kid-s-run-04-19-2014-11339
END:VEVENT

END:VCALENDAR
