BEGIN:VCALENDAR
VERSION:2.0
PRODID:-//ChamberMaster//Event Calendar 2.0//EN
METHOD:PUBLISH
X-PUBLISHED-TTL:P3D
REFRESH-INTERVAL:P3D
CALSCALE:GREGORIAN
BEGIN:VEVENT
DTSTART:20121208T200000Z
DTEND:20121209T010000Z
X-MICROSOFT-CDO-ALLDAYEVENT:FALSE
SUMMARY:Santa's Gift Market
DESCRIPTION:Santa's Gift Market\n\n	Featuring - \n\n	\n		Pictures with Santa\n	\n		Amazing\, locally made crafts and gifts for everyone\n	\n		Free coffee and cocoa\n	\n		Great door prizes and craft demonstrations\n	\n		A SCORE volunteer will be on-hand to answer questions about starting your own business and about business start up programs that are available.\n\n\n	If you are interested in being a vendor at the Market\, please contact Annie at the Kittitas County Chamber of Commerce.  Space is limited and some qualifications must be met.
X-ALT-DESC;FMTTYPE=text/html:<p>\n	<span data-mce-style="font-size: 14pt\; font-family: book antiqua\,palatino\; color: #ff0000\;" style="font-size: 14pt\; font-family: book antiqua\,palatino\; color: #ff0000\;">Santa&#39\;s Gift Market</span></p>\n<p>\n	<span data-mce-style="font-size: 10pt\; font-family: book antiqua\,palatino\; color: #008000\;" style="font-size: 10pt\; font-family: book antiqua\,palatino\; color: #008000\;"><span data-mce-style="font-size: 12pt\;" style="font-size: 12pt\;">Featuring -</span> </span></p>\n<ul>\n	<li>\n		Pictures with Santa</li>\n	<li>\n		Amazing\, locally made crafts and gifts for everyone</li>\n	<li>\n		Free coffee and cocoa</li>\n	<li>\n		Great door prizes and craft demonstrations</li>\n	<li>\n		A SCORE volunteer will be on-hand to answer questions about starting your own business and about business start up programs that are available.</li>\n</ul>\n<p>\n	If you are interested in being a vendor at the Market\, please contact Annie at the Kittitas County Chamber of Commerce.&nbsp\; Space is limited and some qualifications must be met.</p>\n
LOCATION:421 N. Main St. Ellensburg\, WA
UID:e.40.8863
SEQUENCE:3
DTSTAMP:20260420T182757Z
URL:http://business.kittitascountychamber.com/events/details/santa-s-gift-market-12-08-2012-8863
END:VEVENT

END:VCALENDAR
