BEGIN:VCALENDAR
VERSION:2.0
PRODID:-//ChamberMaster//Event Calendar 2.0//EN
METHOD:PUBLISH
X-PUBLISHED-TTL:P3D
REFRESH-INTERVAL:P3D
CALSCALE:GREGORIAN
BEGIN:VEVENT
DTSTART:20130421T020000Z
DTEND:20130421T031500Z
X-MICROSOFT-CDO-ALLDAYEVENT:FALSE
SUMMARY:Schubert Trout Quintet & Beethoven Ghost Trio
DESCRIPTION:On Saturday\, April 20th at 7 pm in the Concert Hall of the Music Building\, CWU faculty Carrie Rehkopf\, Tim Betts\, John Michel and Jon Hamar will be joined by pianist Dr. Eduard Zilberkant\, conductor of the Fairbanks Symphony for a performance of Schubert's well-loved Trout Quintet. Admission is free. The program will begin with Zilberkant/Rehkopf/Michel performing Beethoven's Ghost Trio
X-ALT-DESC;FMTTYPE=text/html:On Saturday\, April 20th at 7 pm in the Concert Hall of the Music Building\, CWU faculty Carrie Rehkopf\, Tim Betts\, John Michel and Jon Hamar will be joined by pianist Dr. Eduard Zilberkant\, conductor of the Fairbanks Symphony for a performance of Schubert&#39\;s well-loved Trout Quintet. Admission is free. The program will begin with Zilberkant/Rehkopf/Michel performing Beethoven&#39\;s Ghost Trio
LOCATION:Music Building Concert Hall
UID:e.40.10174
SEQUENCE:3
DTSTAMP:20260420T114109Z
URL:http://business.kittitascountychamber.com/events/details/schubert-trout-quintet-beethoven-ghost-trio-04-20-2013-10174
END:VEVENT

END:VCALENDAR
