BEGIN:VCALENDAR
VERSION:2.0
PRODID:-//ChamberMaster//Event Calendar 2.0//EN
METHOD:PUBLISH
X-PUBLISHED-TTL:P3D
REFRESH-INTERVAL:P3D
CALSCALE:GREGORIAN
BEGIN:VEVENT
DTSTART:20140110T010000Z
DTEND:20140110T030000Z
X-MICROSOFT-CDO-ALLDAYEVENT:FALSE
SUMMARY:Shari Stoddard Exhibit Opening Reception
DESCRIPTION:Free public opening reception for exhibit by Dr. Shari Stoddard. After fourteen years as Director of the Visual Art Teaching Program\, Stoddard will retire at the end of this academic year. In recognition of her work as both an artist and educator\, the exhibit will include fiber arts\, paintings\, and mixed media pieces created by Stoddard during her tenure in the CWU Department of Art.
X-ALT-DESC;FMTTYPE=text/html:Free public opening reception for exhibit by Dr. Shari Stoddard.&nbsp\;After fourteen years as Director of the Visual Art Teaching Program\, Stoddard will retire at the end of this academic year. In recognition of her work as both an artist and educator\, the exhibit will include fiber arts\, paintings\, and mixed media pieces created by Stoddard during her tenure in the CWU Department of Art.
LOCATION:CWU Sarah Spurgeon Gallery Randall Hall on Dean Nicholson Blvd.
UID:e.40.10849
SEQUENCE:3
DTSTAMP:20260419T190922Z
URL:http://business.kittitascountychamber.com/events/details/shari-stoddard-exhibit-opening-reception-01-09-2014-10849
END:VEVENT

END:VCALENDAR
