BEGIN:VCALENDAR
VERSION:2.0
PRODID:-//ChamberMaster//Event Calendar 2.0//EN
METHOD:PUBLISH
X-PUBLISHED-TTL:P3D
REFRESH-INTERVAL:P3D
CALSCALE:GREGORIAN
BEGIN:VEVENT
DTSTART;VALUE=DATE:20121222
DTEND;VALUE=DATE:20121223
TRANSP:TRANSPARENT
X-MICROSOFT-CDO-ALLDAYEVENT:TRUE
SUMMARY:Silly Sweater Saturday
DESCRIPTION:As the shopping season winds down\, pull on that holiday sweater with the big Rudolf\, colorful snowflakes\, and goofy elves and head downtown. We'll all be ready for some holiday giggles. Shops will be offering last minute specials to those wearing their special sweaters. Merchants can nominate their favorite customers who come ready for some fun. Visit our website for a complete list of participating stores.
X-ALT-DESC;FMTTYPE=text/html:As the shopping season winds down\, pull on that holiday sweater with the big Rudolf\, colorful snowflakes\, and goofy elves and head downtown. We&rsquo\;ll all be ready for some holiday giggles. Shops will be offering last minute specials to those wearing their special sweaters. Merchants can nominate their favorite customers who come ready for some fun. Visit our website for a complete list of participating stores.&nbsp\;
LOCATION:Downtown Ellensburg
UID:e.40.8445
SEQUENCE:3
DTSTAMP:20260420T182608Z
URL:http://business.kittitascountychamber.com/events/details/silly-sweater-saturday-12-22-2012-8445
END:VEVENT

END:VCALENDAR
