BEGIN:VCALENDAR
VERSION:2.0
PRODID:-//ChamberMaster//Event Calendar 2.0//EN
METHOD:PUBLISH
X-PUBLISHED-TTL:P3D
REFRESH-INTERVAL:P3D
CALSCALE:GREGORIAN
BEGIN:VEVENT
DTSTART:20140426T010000Z
DTEND:20140426T040000Z
X-MICROSOFT-CDO-ALLDAYEVENT:FALSE
SUMMARY:Sip and Spin
DESCRIPTION:Try your hand at pottery at Gallery One. The CWU clay club will be available to assist you and show you the ropes. No experience is necessary. All ages are welcome.
X-ALT-DESC;FMTTYPE=text/html:Try your hand at pottery at Gallery One. The CWU clay club will be available to assist you and show you the ropes. No experience is necessary. All ages are welcome.
LOCATION:Gallery-One 408 N Pearl Street Ellensburg WA 98926
UID:e.40.11299
SEQUENCE:3
DTSTAMP:20260419T161044Z
URL:http://business.kittitascountychamber.com/events/details/sip-and-spin-04-25-2014-11299
END:VEVENT

END:VCALENDAR
