BEGIN:VCALENDAR
VERSION:2.0
PRODID:-//ChamberMaster//Event Calendar 2.0//EN
METHOD:PUBLISH
X-PUBLISHED-TTL:P3D
REFRESH-INTERVAL:P3D
CALSCALE:GREGORIAN
BEGIN:VEVENT
DTSTART;VALUE=DATE:20190730
DTEND;VALUE=DATE:20190731
TRANSP:TRANSPARENT
X-MICROSOFT-CDO-ALLDAYEVENT:TRUE
SUMMARY:Slipknot
DESCRIPTION:With special guests Volbeat\, Gojira\, Behemoth
X-ALT-DESC;FMTTYPE=text/html:With special guests Volbeat\, Gojira\, Behemoth
LOCATION:White River Amphitheatre
UID:e.40.25840
SEQUENCE:3
DTSTAMP:20260421T131555Z
URL:http://business.kittitascountychamber.com/events/details/slipknot-25840
END:VEVENT

END:VCALENDAR
