BEGIN:VCALENDAR
VERSION:2.0
PRODID:-//ChamberMaster//Event Calendar 2.0//EN
METHOD:PUBLISH
X-PUBLISHED-TTL:P3D
REFRESH-INTERVAL:P3D
CALSCALE:GREGORIAN
BEGIN:VEVENT
DTSTART:20121215T180000Z
DTEND:20121215T190000Z
X-MICROSOFT-CDO-ALLDAYEVENT:FALSE
SUMMARY:Snowball Drop
DESCRIPTION:The weather in Ellensburg can be unpredictable in the winter months. This year\, the Ellensburg Downtown Association and MYELLENSBURG.COM are promising a man made blizzard. On December 15 at 10:00 am. Kittitas Valley Fire and Rescue will be joining us from the top of their truck ladder to toss hundreds of "snowballs" into the crowd at Rotary Pavilion. The snowballs\, really ping pong balls\, will each feature a discount\, gift\, or give-away that visitors may redeem at area stores. This new event is free and open to the public.
X-ALT-DESC;FMTTYPE=text/html:The weather in Ellensburg can be unpredictable in the winter months. This year\, the Ellensburg Downtown Association and <a href="http://myellensburg.com" target="_blank">MYELLENSBURG.COM</a> are promising a man made blizzard. On December 15 at 10:00 am. Kittitas Valley Fire and Rescue will be joining us from the top of their truck ladder to toss hundreds of &ldquo\;snowballs&rdquo\; into the crowd at Rotary Pavilion. The snowballs\, really ping pong balls\, will each feature a discount\, gift\, or give-away that visitors may redeem at area stores. This new event is free and open to the public.
LOCATION:Rotary Pavilion Pearl Street\, Ellensburg
UID:e.40.8444
SEQUENCE:3
DTSTAMP:20260420T182534Z
URL:http://business.kittitascountychamber.com/events/details/snowball-drop-12-15-2012-8444
END:VEVENT

END:VCALENDAR
