BEGIN:VCALENDAR
VERSION:2.0
PRODID:-//ChamberMaster//Event Calendar 2.0//EN
METHOD:PUBLISH
X-PUBLISHED-TTL:P3D
REFRESH-INTERVAL:P3D
CALSCALE:GREGORIAN
BEGIN:VEVENT
DTSTART:20121115T030000Z
DTEND:20121115T040000Z
X-MICROSOFT-CDO-ALLDAYEVENT:FALSE
SUMMARY:Sounds in the SURC with Nada Cantata
DESCRIPTION:Head down to the Student Union and Recreation Center (SURC) Pit Wednesday\, Nov. 14 at 7 p.m. and check out Sounds in the SURC featuring CWU's coed a cappella ensemble Nada Cantata. Admission is free and open to the public. With some of Central's most talented vocalists taking center stage\, there won't be any need for instruments at this concert. Come watch as the 15 members of Nada Cantata give serenade the audience with an evening of harmony and rhythm. For more information contact Isaiah Ragland at 253-722-8366 or raglandi@cwu.edu.
X-ALT-DESC;FMTTYPE=text/html:Head down to the Student Union and Recreation Center (SURC) Pit Wednesday\, Nov. 14 at 7 p.m. and check out Sounds in the SURC featuring CWU&rsquo\;s coed a cappella ensemble Nada Cantata. Admission is free and open to the public. With some of Central&rsquo\;s most talented vocalists taking center stage\, there won&rsquo\;t be any need for instruments at this concert. Come watch as the 15 members of Nada Cantata give serenade the audience with an evening of harmony and rhythm. For more information contact Isaiah Ragland at 253-722-8366 or raglandi@cwu.edu.&nbsp\;
LOCATION:CWU - SURC Pit
UID:e.40.8405
SEQUENCE:3
DTSTAMP:20260420T201958Z
URL:http://business.kittitascountychamber.com/events/details/sounds-in-the-surc-with-nada-cantata-11-14-2012-8405
END:VEVENT

END:VCALENDAR
