BEGIN:VCALENDAR
VERSION:2.0
PRODID:-//ChamberMaster//Event Calendar 2.0//EN
METHOD:PUBLISH
X-PUBLISHED-TTL:P3D
REFRESH-INTERVAL:P3D
CALSCALE:GREGORIAN
BEGIN:VEVENT
DTSTART:20140419T003000Z
DTEND:20140419T020000Z
X-MICROSOFT-CDO-ALLDAYEVENT:FALSE
SUMMARY:Soup Line Benefit
DESCRIPTION:Enjoy an evening of music and friends. Sample a variety of tasty homemade soups with bread and take home a handmade ceramic bowl. Drinks will be available for sale.
X-ALT-DESC;FMTTYPE=text/html:Enjoy an evening of music and friends. Sample a variety of tasty homemade soups with bread and take home a handmade ceramic bowl. Drinks will be available for sale.
LOCATION:Gallery-One 408 N pearl Street Ellensburg\, WA 98926
UID:e.40.11294
SEQUENCE:3
DTSTAMP:20260419T143806Z
URL:http://business.kittitascountychamber.com/events/details/soup-line-benefit-04-18-2014-11294
END:VEVENT

END:VCALENDAR
