BEGIN:VCALENDAR
VERSION:2.0
PRODID:-//ChamberMaster//Event Calendar 2.0//EN
METHOD:PUBLISH
X-PUBLISHED-TTL:P3D
REFRESH-INTERVAL:P3D
CALSCALE:GREGORIAN
BEGIN:VEVENT
DTSTART:20130516T153000Z
DTEND:20130517T003000Z
X-MICROSOFT-CDO-ALLDAYEVENT:FALSE
SUMMARY:SOURCE 2013
DESCRIPTION:Some of the best work produced by Central students this year will be on display Thursday\, May 16 at SOURCE? CWU?s Symposium on University Research and Creative Expression?from 8:30 a.m. to 5:30 p.m. in the Student Union and Recreation Center (SURC). This event is free and open to the public. SOURCE is an opportunity for students from across the university to present their work in a juried environment. Whether it?s a creative writing piece\, biological research or a choreographed dance\, SOURCE provides students with a platform to showcase their hard work and accomplishments to the world. To learn more about SOURCE\, or to view this year?s program and schedule of events\, visit www.cwu.edu/source. For more information contact Kara Gabriel\, SOURCE Committee chair\, at gabrielk@cwu.edu.
X-ALT-DESC;FMTTYPE=text/html:Some of the best work produced by Central students this year will be on display Thursday\, May 16 at SOURCE? CWU?s Symposium on University Research and Creative Expression?from 8:30 a.m. to 5:30 p.m. in the Student Union and Recreation Center (SURC). This event is free and open to the public. SOURCE is an opportunity for students from across the university to present their work in a juried environment. Whether it?s a creative writing piece\, biological research or a choreographed dance\, SOURCE provides students with a platform to showcase their hard work and accomplishments to the world. To learn more about SOURCE\, or to view this year?s program and schedule of events\, visit www.cwu.edu/source. For more information contact Kara Gabriel\, SOURCE Committee chair\, at gabrielk@cwu.edu. 
LOCATION:SURC
UID:e.40.10312
SEQUENCE:3
DTSTAMP:20260420T082437Z
URL:http://business.kittitascountychamber.com/events/details/source-2013-05-16-2013-10312
END:VEVENT

END:VCALENDAR
