BEGIN:VCALENDAR
VERSION:2.0
PRODID:-//ChamberMaster//Event Calendar 2.0//EN
METHOD:PUBLISH
X-PUBLISHED-TTL:P3D
REFRESH-INTERVAL:P3D
CALSCALE:GREGORIAN
BEGIN:VEVENT
DTSTART:20140412T000000Z
DTEND:20140412T020000Z
X-MICROSOFT-CDO-ALLDAYEVENT:FALSE
SUMMARY:Spaghetti Dinner Benefit
DESCRIPTION:The Kiwanis Club of Ellensburg and Ellensburg Moose Lodge will host a spaghetti dinner to benefit the Langston Family. The family's home in Ellensburg was severly damaged in the Taylor Bridge Fire. They moved to Oso and lost their home to the Oso mudslide. The mudslide and flood left them homeless and destroyed most of their possessions.
X-ALT-DESC;FMTTYPE=text/html:The Kiwanis Club of Ellensburg and Ellensburg Moose Lodge will host a spaghetti dinner to benefit the Langston Family. The family&#39\;s home in Ellensburg was severly damaged in the Taylor Bridge Fire. They moved to Oso and lost their home to the Oso mudslide. The mudslide and flood left them homeless and destroyed most of their possessions.
LOCATION:Moose Lodge 206 N. Main Street\, Ellensburg\, Wa
UID:e.40.11325
SEQUENCE:3
DTSTAMP:20260419T161028Z
URL:http://business.kittitascountychamber.com/events/details/spaghetti-dinner-benefit-04-11-2014-11325
END:VEVENT

END:VCALENDAR
