BEGIN:VCALENDAR
VERSION:2.0
PRODID:-//ChamberMaster//Event Calendar 2.0//EN
METHOD:PUBLISH
X-PUBLISHED-TTL:P3D
REFRESH-INTERVAL:P3D
CALSCALE:GREGORIAN
BEGIN:VEVENT
DTSTART:20130601T020000Z
DTEND:20130601T020000Z
X-MICROSOFT-CDO-ALLDAYEVENT:FALSE
SUMMARY:Sparrow Singers for FISH
DESCRIPTION:The Sparrow Singers are going to perform at Mercer Creek Church on May 31st \,Friday at 7:00 pm.  This will be fun evening.  American Composers will be featured......All proceeds will be presented to the FISH Food bank to assist them in the purchase of a commercial stove
X-ALT-DESC;FMTTYPE=text/html:The Sparrow Singers are going to perform at Mercer Creek Church on May 31st \,Friday at 7:00 pm.&nbsp\; This will be fun evening.&nbsp\; American Composers will be featured......All proceeds will be presented to the FISH Food bank to assist them in the purchase of a commercial stove
LOCATION:Mercer Creek Church 1407 N "B" Street
UID:e.40.10315
SEQUENCE:3
DTSTAMP:20260420T083253Z
URL:http://business.kittitascountychamber.com/events/details/sparrow-singers-for-fish-05-31-2013-10315
END:VEVENT

END:VCALENDAR
