BEGIN:VCALENDAR
VERSION:2.0
PRODID:-//ChamberMaster//Event Calendar 2.0//EN
METHOD:PUBLISH
X-PUBLISHED-TTL:P3D
REFRESH-INTERVAL:P3D
CALSCALE:GREGORIAN
BEGIN:VEVENT
DTSTART:20130525T000000Z
DTEND:20130525T020000Z
X-MICROSOFT-CDO-ALLDAYEVENT:FALSE
SUMMARY:Spring Barrel Tasting at Swiftwater Cellars
DESCRIPTION:Enjoy a rare opportunity to sample wines straight from the barrel with our winemaker Linda Trotta
X-ALT-DESC;FMTTYPE=text/html:Enjoy a rare opportunity to sample wines straight from the barrel with our winemaker Linda Trotta
LOCATION:Swiftwater Cellars
UID:e.40.10295
SEQUENCE:3
DTSTAMP:20260420T083129Z
URL:http://business.kittitascountychamber.com/events/details/spring-barrel-tasting-at-swiftwater-cellars-05-24-2013-10295
END:VEVENT

END:VCALENDAR
