BEGIN:VCALENDAR
VERSION:2.0
PRODID:-//ChamberMaster//Event Calendar 2.0//EN
METHOD:PUBLISH
X-PUBLISHED-TTL:P3D
REFRESH-INTERVAL:P3D
CALSCALE:GREGORIAN
BEGIN:VEVENT
DTSTART:20130421T023000Z
DTEND:20130421T053000Z
X-MICROSOFT-CDO-ALLDAYEVENT:FALSE
SUMMARY:Spring Fling Barn Dance
DESCRIPTION:Spring Fling Barn Dance -Sponsored by Washington Foundation Quarter Horse Club and Eastern Washington Quarter Horse Association.\n\n\n\nPlease Join them for ~\n\n	\n		Socializing\n	\n		Snacks\n	\n		Dancing to live music by -The Wolf Pack\n	\n		Pie and Ice cream available for purchase\n	\n		No host bar
X-ALT-DESC;FMTTYPE=text/html:Spring Fling Barn Dance -Sponsored by Washington Foundation Quarter Horse Club and Eastern Washington Quarter Horse Association.<br />\n<br />\nPlease Join them for ~\n<ul>\n	<li>\n		Socializing</li>\n	<li>\n		Snacks</li>\n	<li>\n		Dancing to live music by -The Wolf Pack</li>\n	<li>\n		Pie and Ice cream available for purchase</li>\n	<li>\n		No host bar</li>\n</ul>\n
LOCATION:Manastash Room at Kittitas Valley Event Center
UID:e.40.10163
SEQUENCE:3
DTSTAMP:20260420T100703Z
URL:http://business.kittitascountychamber.com/events/details/spring-fling-barn-dance-04-20-2013-10163
END:VEVENT

END:VCALENDAR
